BEGIN:VCALENDAR
VERSION:2.0
PRODID:-//Bella Ridge Golf Club - ECPv6.15.18//NONSGML v1.0//EN
CALSCALE:GREGORIAN
METHOD:PUBLISH
X-ORIGINAL-URL:https://www.bellaridgegolf.com
X-WR-CALDESC:Events for Bella Ridge Golf Club
REFRESH-INTERVAL;VALUE=DURATION:PT1H
X-Robots-Tag:noindex
X-PUBLISHED-TTL:PT1H
BEGIN:VTIMEZONE
TZID:America/Denver
BEGIN:DAYLIGHT
TZOFFSETFROM:-0700
TZOFFSETTO:-0600
TZNAME:MDT
DTSTART:20250309T090000
END:DAYLIGHT
BEGIN:STANDARD
TZOFFSETFROM:-0600
TZOFFSETTO:-0700
TZNAME:MST
DTSTART:20251102T080000
END:STANDARD
BEGIN:DAYLIGHT
TZOFFSETFROM:-0700
TZOFFSETTO:-0600
TZNAME:MDT
DTSTART:20260308T090000
END:DAYLIGHT
BEGIN:STANDARD
TZOFFSETFROM:-0600
TZOFFSETTO:-0700
TZNAME:MST
DTSTART:20261101T080000
END:STANDARD
BEGIN:DAYLIGHT
TZOFFSETFROM:-0700
TZOFFSETTO:-0600
TZNAME:MDT
DTSTART:20270314T090000
END:DAYLIGHT
BEGIN:STANDARD
TZOFFSETFROM:-0600
TZOFFSETTO:-0700
TZNAME:MST
DTSTART:20271107T080000
END:STANDARD
END:VTIMEZONE
BEGIN:VEVENT
DTSTART;TZID=America/Denver:20260418T094500
DTEND;TZID=America/Denver:20260418T130000
DTSTAMP:20260421T115703
CREATED:20260409T153716Z
LAST-MODIFIED:20260409T153716Z
UID:10000003-1776505500-1776517200@www.bellaridgegolf.com
SUMMARY:Course Reserved
DESCRIPTION:
URL:https://www.bellaridgegolf.com/event/course-reserved-2/
END:VEVENT
BEGIN:VEVENT
DTSTART;VALUE=DATE:20260417
DTEND;VALUE=DATE:20260418
DTSTAMP:20260421T115703
CREATED:20260409T154126Z
LAST-MODIFIED:20260409T154558Z
UID:10000004-1776384000-1776470399@www.bellaridgegolf.com
SUMMARY:Tee Times Begin at 8:30AM
DESCRIPTION:
URL:https://www.bellaridgegolf.com/event/first-tee-time-begins-at-830am/
END:VEVENT
BEGIN:VEVENT
DTSTART;TZID=America/Denver:20260416T090000
DTEND;TZID=America/Denver:20260416T110000
DTSTAMP:20260421T115703
CREATED:20260409T153545Z
LAST-MODIFIED:20260409T153545Z
UID:10000002-1776330000-1776337200@www.bellaridgegolf.com
SUMMARY:Course Reserved
DESCRIPTION:
URL:https://www.bellaridgegolf.com/event/course-reserved/
END:VEVENT
END:VCALENDAR